BEGIN:VCALENDAR
VERSION:2.0
PRODID:spatie/icalendar-generator
DESCRIPTION:Veranstaltungen von Ökumenischer Arbeitskreis Asyl Bad Iburg
X-WR-CALDESC:Veranstaltungen von Ökumenischer Arbeitskreis Asyl Bad Iburg
REFRESH-INTERVAL;VALUE=DURATION:PT1440M
X-PUBLISHED-TTL:PT1440M
BEGIN:VTIMEZONE
TZID:Etc/GMT+0
BEGIN:STANDARD
DTSTART:20220922T183000Z
TZOFFSETFROM:+0000
TZOFFSETTO:+0000
END:STANDARD
END:VTIMEZONE
BEGIN:VTIMEZONE
TZID:UTC
BEGIN:STANDARD
DTSTART:20250724T062048Z
TZOFFSETFROM:+0000
TZOFFSETTO:+0000
END:STANDARD
END:VTIMEZONE
BEGIN:VEVENT
UID:42-4
DTSTAMP:20260420T062048Z
SUMMARY:Café der Begegnung
LOCATION:Hagenberg 1\, 49186 Bad Iburg (altes Schwimmbad)
ORGANIZER;CN=Veldten:MAILTO:info@veldten.eu
RRULE:FREQ=WEEKLY;UNTIL=20230626T000000Z
DTSTART;TZID=Etc/GMT+0:20230619T183000
DTEND;TZID=Etc/GMT+0:20230619T203000
X-ALT-DESC;FMTTYPE=TEXT/HTML:Sozialbehördliche Beratung (Antragsberatung) 
 (montags 18:30-20:30 Uhr) Deutsch Stammtisch „Deutsch sprechen im Alltag
  – Leicht gemacht“ (montags 18:30-20:30 Uhr)
CATEGORIES:Café der Begegnung
URL;VALUE=URI:https://akasyl-badiburg.de/?mc-events=cafe-der-begegnung&amp;mc_i
 d=42
METHOD:PUBLISH
END:VEVENT
END:VCALENDAR