BEGIN:VCALENDAR
VERSION:2.0
PRODID:spatie/icalendar-generator
DESCRIPTION:Veranstaltungen von Ökumenischer Arbeitskreis Asyl Bad Iburg
X-WR-CALDESC:Veranstaltungen von Ökumenischer Arbeitskreis Asyl Bad Iburg
REFRESH-INTERVAL;VALUE=DURATION:PT1440M
X-PUBLISHED-TTL:PT1440M
BEGIN:VTIMEZONE
TZID:Etc/GMT+0
BEGIN:STANDARD
DTSTART:20230914T183000Z
TZOFFSETFROM:+0000
TZOFFSETTO:+0000
END:STANDARD
END:VTIMEZONE
BEGIN:VTIMEZONE
TZID:UTC
BEGIN:STANDARD
DTSTART:20250729T145619Z
TZOFFSETFROM:+0000
TZOFFSETTO:+0000
END:STANDARD
END:VTIMEZONE
BEGIN:VEVENT
UID:128-18
DTSTAMP:20260425T145619Z
SUMMARY:Café der Begegnung
LOCATION:Hagenberg 1\, 49186 Bad Iburg (altes Schwimmbad)
ORGANIZER;CN=Veldten:MAILTO:info@veldten.eu
RRULE:FREQ=WEEKLY;UNTIL=20240617T000000Z
DTSTART;TZID=Etc/GMT+0:20240610T183000
DTEND;TZID=Etc/GMT+0:20240610T203000
X-ALT-DESC;FMTTYPE=TEXT/HTML:Sozialbehördliche Beratung (Antragsberatung) 
 (montags 18:30-20:30 Uhr) Deutsch Stammtisch „Deutsch sprechen im Alltag
  – Leicht gemacht“ (montags 18:30-20:30 Uhr)
CATEGORIES:Café der Begegnung
URL;VALUE=URI:https://akasyl-badiburg.de/?mc-events=cafe-der-begegnung-3&amp;mc
 _id=128
METHOD:PUBLISH
END:VEVENT
END:VCALENDAR