BEGIN:VCALENDAR
VERSION:2.0
PRODID:spatie/icalendar-generator
DESCRIPTION:Veranstaltungen von Ökumenischer Arbeitskreis Asyl Bad Iburg
X-WR-CALDESC:Veranstaltungen von Ökumenischer Arbeitskreis Asyl Bad Iburg
REFRESH-INTERVAL;VALUE=DURATION:PT1440M
X-PUBLISHED-TTL:PT1440M
BEGIN:VTIMEZONE
TZID:Etc/GMT+0
BEGIN:STANDARD
DTSTART:20220925T183000Z
TZOFFSETFROM:+0000
TZOFFSETTO:+0000
END:STANDARD
END:VTIMEZONE
BEGIN:VTIMEZONE
TZID:UTC
BEGIN:STANDARD
DTSTART:20250729T225752Z
TZOFFSETFROM:+0000
TZOFFSETTO:+0000
END:STANDARD
END:VTIMEZONE
BEGIN:VEVENT
UID:45-7
DTSTAMP:20260425T225752Z
SUMMARY:Infoabend für Ehrenamtliche
LOCATION:
ORGANIZER;CN=Veldten:MAILTO:info@veldten.eu
DTSTART;TZID=Etc/GMT+0:20230622T183000
DTEND;TZID=Etc/GMT+0:20230622T193000
X-ALT-DESC;FMTTYPE=TEXT/HTML:
CATEGORIES:AK Asyl
URL;VALUE=URI:https://akasyl-badiburg.de/?mc-events=infoabend-fuer-ehrenamt
 liche
METHOD:PUBLISH
END:VEVENT
END:VCALENDAR