BEGIN:VCALENDAR
VERSION:2.0
PRODID:spatie/icalendar-generator
DESCRIPTION:Veranstaltungen von Ökumenischer Arbeitskreis Asyl Bad Iburg
X-WR-CALDESC:Veranstaltungen von Ökumenischer Arbeitskreis Asyl Bad Iburg
REFRESH-INTERVAL;VALUE=DURATION:PT1440M
X-PUBLISHED-TTL:PT1440M
BEGIN:VTIMEZONE
TZID:Etc/GMT+0
BEGIN:STANDARD
DTSTART:20220810T150000Z
TZOFFSETFROM:+0000
TZOFFSETTO:+0000
END:STANDARD
END:VTIMEZONE
BEGIN:VTIMEZONE
TZID:UTC
BEGIN:STANDARD
DTSTART:20250725T042252Z
TZOFFSETFROM:+0000
TZOFFSETTO:+0000
END:STANDARD
END:VTIMEZONE
BEGIN:VEVENT
UID:43-5
DTSTAMP:20260421T042252Z
SUMMARY:Repair Café Bad Iburg
LOCATION:
ORGANIZER;CN=Veldten:MAILTO:info@veldten.eu
DTSTART;TZID=Etc/GMT+0:20230507T150000
DTEND;TZID=Etc/GMT+0:20230507T170000
X-ALT-DESC;FMTTYPE=TEXT/HTML:Wegwerfen? Denkste! Unter diesem Slogan will d
 as Team des Repair Café Bad Iburg einen Beitrag zu einer sauberen Umwelt 
 leisten. In den Räumen des Kindertreffs „Flavour“\, Hagenberg 21 (alt
 es Hallenbad)\, Bad Iburg\, stehen an jeden 1. Sonntag im Monat verschiede
 ne fachlich versierte ehrenamtliche Helfer zur Verfügung\, um bei allen m
 öglichen Reparaturen behilflich zu sein. Besucher&amp;hellip\;
CATEGORIES:sonstiges
URL;VALUE=URI:https://akasyl-badiburg.de/?mc-events=repair-cafe-bad-iburg
METHOD:PUBLISH
END:VEVENT
END:VCALENDAR