BEGIN:VCALENDAR
VERSION:2.0
PRODID:spatie/icalendar-generator
DESCRIPTION:Veranstaltungen von Ökumenischer Arbeitskreis Asyl Bad Iburg
X-WR-CALDESC:Veranstaltungen von Ökumenischer Arbeitskreis Asyl Bad Iburg
REFRESH-INTERVAL;VALUE=DURATION:PT1440M
X-PUBLISHED-TTL:PT1440M
BEGIN:VTIMEZONE
TZID:Etc/GMT+0
BEGIN:STANDARD
DTSTART:20230312T140000Z
TZOFFSETFROM:+0000
TZOFFSETTO:+0000
END:STANDARD
END:VTIMEZONE
BEGIN:VTIMEZONE
TZID:UTC
BEGIN:STANDARD
DTSTART:20250730T015511Z
TZOFFSETFROM:+0000
TZOFFSETTO:+0000
END:STANDARD
END:VTIMEZONE
BEGIN:VEVENT
UID:84-9
DTSTAMP:20260426T015511Z
SUMMARY:Sozialer Kleiderladen Bad Iburg
LOCATION:
ORGANIZER;CN=Veldten:MAILTO:info@veldten.eu
RRULE:FREQ=WEEKLY;UNTIL=20231214T000000Z
DTSTART;TZID=Etc/GMT+0:20231207T140000
DTEND;TZID=Etc/GMT+0:20231207T170000
X-ALT-DESC;FMTTYPE=TEXT/HTML:Sozialer Kleiderladen Bad Iburg Im Sozialen Kl
 eiderladen erhaten Sie günstig gebrauchte Kleidung.In den Öffnungszeiten
  nehmen die Ehrenamtlichen auch gerne Ihre Spenden für den Laden an. Auch
  können Sie in dieser Zeit auch Kleiderspenden für die Rumänienhilfe Ba
 d Iburg abgeben.
CATEGORIES:Sozialer Kleiderladen
URL;VALUE=URI:https://akasyl-badiburg.de/?mc-events=sozialer-kleiderladen-b
 ad-iburg-4&amp;mc_id=84
METHOD:PUBLISH
END:VEVENT
END:VCALENDAR